BEGIN:VCALENDAR
PRODID:-//github.com/ical-org/ical.net//NONSGML ical.net 5.2.1//EN
VERSION:2.0
BEGIN:VEVENT
DESCRIPTION:GraphQL se stal populární volbou pro vývoj moderních API d
 íky své efektivitě a flexibilitě. Tyto vlastnosti však zároveň při
 nášejí nové a často přehlížené bezpečnostní výzvy. Tato předn
 áška představí praktické techniky\, které útočníci používají k
  průzkumu a zneužití GraphQL endpointů\, a ukáže\, jak se proti nim 
 efektivně bránit pomocí správného návrhu. Součástí bude také př
 edstavení nástroje PTGRAPHQL\, který automatizuje detekci běžných zr
 anitelností v GraphQL implementacích.
DTEND;TZID=Central Europe Standard Time:20260414T160000
DTSTAMP:20260419T133642Z
DTSTART;TZID=Central Europe Standard Time:20260414T151000
LOCATION:Stream 1
SEQUENCE:0
SUMMARY:GraphQL pod útokem: identifikace a mitigace bezpečnostních rizik
UID:5bad94e6-f81d-4e3d-44a7-08de96f13444
URL:https://www.gopas2go.cz/cs/events/jsdays-2026/5bad94e6-f81d-4e3d-44a7-0
 8de96f13444
END:VEVENT
END:VCALENDAR
