BEGIN:VCALENDAR
PRODID:-//github.com/ical-org/ical.net//NONSGML ical.net 5.2.1//EN
VERSION:2.0
BEGIN:VEVENT
DESCRIPTION:O row kontextu a filter kontextu jste určitě už mnohokrát s
 lyšeli\, ale víte\, jak fungují? Které funkce DAX je spouští\, nebo 
 naopak potlačují? Co je Context transition a jaký může mít dopad na 
 celkovou výkonnost modelu? Nebo co je ALLSELECTED a jím vyvolaný předc
 házející filter kontext\, se kterým pracuje? Či jak funguje poslední
  nejnovější kontext\, který je ve Visual calculation? V této předná
 šce Vám na praktických ukázkách\, doplněných o teoretické poznatky
 \, vysvětlím\, jak všechny výše uvedené kontexty fungují samostatn
 ě a jak fungují spolu. Cílem přednášky je\, aby vaše každodenní p
 ráce s Power BI a DAX byla zase o něco jednodušší.
DTEND;TZID=Central Europe Standard Time:20260312T145500
DTSTAMP:20260425T143803Z
DTSTART;TZID=Central Europe Standard Time:20260312T140500
LOCATION:Hlavní sál
SEQUENCE:0
SUMMARY:Kontexty v Power BI a DAX
UID:21bd0327-2e84-46e5-159f-08de7e7baf89
URL:https://www.gopas2go.cz/sk/events/power-bi-day-2026/21bd0327-2e84-46e5-
 159f-08de7e7baf89
END:VEVENT
END:VCALENDAR
