BEGIN:VCALENDAR
PRODID:-//github.com/ical-org/ical.net//NONSGML ical.net 5.2.1//EN
VERSION:2.0
BEGIN:VEVENT
DESCRIPTION:AI a Copilot jsou v poslední době velmi skloňovaná témata.
  Na přednášce se dozvíte\, co je GitHub Copilot a jak využít Visual 
 Studio Code pro práci s Power BI\, jak s ním upravovat datové modely. D
 ozvíte se také\, jak si ušetřit práci a vybrané úlohy automatizovat
 . Na závěr zabrousíme do použití Power BI MCP modelling serveru a uvi
 díte\, jak vybudovat model v Power BI / Microsoft Fabricu čistě agentic
 ky na základě instrukcí a metadat.
DTEND;TZID=Central Europe Standard Time:20260312T100000
DTSTAMP:20260425T143048Z
DTSTART;TZID=Central Europe Standard Time:20260312T090000
LOCATION:Hlavní sál
SEQUENCE:0
SUMMARY:Za hranice Desktopu v době AI
UID:3fc2fcaa-0758-43d7-159b-08de7e7baf89
URL:https://www.gopas2go.cz/sk/events/power-bi-day-2026/3fc2fcaa-0758-43d7-
 159b-08de7e7baf89
END:VEVENT
END:VCALENDAR
