BEGIN:VCALENDAR
PRODID:-//github.com/ical-org/ical.net//NONSGML ical.net 5.2.1//EN
VERSION:2.0
BEGIN:VEVENT
DESCRIPTION:Stovka PDF reportů a vy potřebujete data do Power BI? Během 
 minuty. Bez chyb. Bez manuální práce.\nUkážeme si živě\, jak pomoc
 í Power Automate Desktop automaticky vytěžit data ze 100 textových PDF
  souborů\, připravit je do XLSX a nasypat rovnou do Power BI analýz. A 
 hlavně si ukážeme\, proč automatizace už dávno není "nice to have" 
 - je to must-have pro workflow každé moderní firmy.
DTEND;TZID=Central Europe Standard Time:20260312T170500
DTSTAMP:20260425T143115Z
DTSTART;TZID=Central Europe Standard Time:20260312T161500
LOCATION:Hlavní sál
SEQUENCE:0
SUMMARY:Power Automate Desktop - jak jej neznáte!
UID:4fa1d53d-026d-4cec-15a1-08de7e7baf89
URL:https://www.gopas2go.cz/sk/events/power-bi-day-2026/4fa1d53d-026d-4cec-
 15a1-08de7e7baf89
END:VEVENT
END:VCALENDAR
