BEGIN:VCALENDAR
PRODID:-//github.com/ical-org/ical.net//NONSGML ical.net 5.2.1//EN
VERSION:2.0
BEGIN:VEVENT
DESCRIPTION:Power BI Copilot slibuje rychlejší práci s daty a chytřejš
 í reporting – ale kdy skutečně pomáhá a kde už naráží na své l
 imity?\nTato přednáška nabídne praktický a realistický pohled na vyu
 žití Copilota v Power BI napříč Service i Desktopem. Ukážeme si\, k
 de je Copilot dostupný\, jaké jsou technické\, licenční a regionáln
 í podmínky jeho použití a jak se liší jednotlivá Copilot prostřed
 í. Na konkrétních ukázkách uvidíte standalone Copilot experience v P
 ower BI Service i využití Copilota přímo nad reporty – od shrnutí o
 bsahu až po dotazy nad daty. Zaměříme se také na to\, jak data na pr
 áci s AI správně připravit\, aby Copilot dával smysluplné a použite
 lné výsledky. Z přednášky si odnesete jasné pochopení toho\, kdy Co
 pilot přináší reálnou hodnotu\, kdy může být zavádějící a jak 
 ho využívat efektivně v každodenní BI praxi.
DTEND;TZID=Central Europe Standard Time:20260312T135000
DTSTAMP:20260425T143439Z
DTSTART;TZID=Central Europe Standard Time:20260312T130000
LOCATION:Hlavní sál
SEQUENCE:0
SUMMARY:Power BI Copilot v praxi: možnosti\, limity a reálné využití
UID:66a01891-d8a8-40ea-159e-08de7e7baf89
URL:https://www.gopas2go.cz/sk/events/power-bi-day-2026/66a01891-d8a8-40ea-
 159e-08de7e7baf89
END:VEVENT
END:VCALENDAR
