BEGIN:VCALENDAR
PRODID:-//github.com/ical-org/ical.net//NONSGML ical.net 5.2.1//EN
VERSION:2.0
BEGIN:VEVENT
DESCRIPTION:S příchodem Fabricu uvedl Microsoft novou generaci Dataflows.
  Ta přináší známý komfort vizuálních transformací\, ale pod kapot
 ou nabízí zcela nové možnosti ukládání dat a optimalizaci výpočet
 ního enginu. S vyšším výkonem ovšem přichází i nová cenovka. V t
 éto přednášce se podíváme na to\, zda má smysl Dataflow Gen2 reáln
 ě nasadit a jaká je jeho spotřeba kapacity (CU) oproti jiným nástroj
 ům ve Fabricu. Cílem je najít odpověď na zásadní otázku: Kdy se vy
 platí migrace na Gen2\, kdy je rozumnější zůstat u osvědčeného Dat
 aflow Gen1 a ve kterých případech je stále nejlepším řešením nech
 at transformace přímo v Power BI Desktopu.
DTEND;TZID=Central Europe Standard Time:20260312T121000
DTSTAMP:20260425T144129Z
DTSTART;TZID=Central Europe Standard Time:20260312T112000
LOCATION:Hlavní sál
SEQUENCE:0
SUMMARY:Dataflow Gen2: Evoluce Power Query a cena za pohodlí
UID:845bed13-ef4f-4bcf-159d-08de7e7baf89
URL:https://www.gopas2go.cz/sk/events/power-bi-day-2026/845bed13-ef4f-4bcf-
 159d-08de7e7baf89
END:VEVENT
END:VCALENDAR
