BEGIN:VCALENDAR
PRODID:-//github.com/ical-org/ical.net//NONSGML ical.net 5.2.1//EN
VERSION:2.0
BEGIN:VEVENT
DESCRIPTION:S uvedením SQL Serveru 2025 se Power BI Report Server stává 
 standardní platformou pro on-premises reporting.\n\nNa přednášce projd
 eme typické scénáře\, kde Power BI Report Server dává smysl\, i situ
 ace\, ve kterých je vhodnější zvolit cloudové řešení.\n\nDále por
 ovnáme vývojové a provozní nástroje pro Power BI Report Server a Powe
 r BI Service. Vysvětlíme si rozdíly v monitoringu\, správě a orchestr
 aci řešení. \nNa závěr projdeme klíčová funkční omezení Report 
 Serveru. \n\n
DTEND;TZID=Central Europe Standard Time:20260312T110500
DTSTAMP:20260425T143757Z
DTSTART;TZID=Central Europe Standard Time:20260312T101500
LOCATION:Hlavní sál
SEQUENCE:0
SUMMARY:Jak na Power BI Report Server
UID:a32ca82c-423f-47b2-159c-08de7e7baf89
URL:https://www.gopas2go.cz/sk/events/power-bi-day-2026/a32ca82c-423f-47b2-
 159c-08de7e7baf89
END:VEVENT
END:VCALENDAR
