BEGIN:VCALENDAR
PRODID:-//github.com/ical-org/ical.net//NONSGML ical.net 5.2.1//EN
VERSION:2.0
BEGIN:VEVENT
DESCRIPTION:Power BI reporty tradičně slouží pouze ke čtení a analýz
 e dat. Translytical Task Flows přinášejí do reportů možnost měnit d
 ata a provádět business operace - kombinují tak analytickou a transakč
 ní vrstvu v jednom nástroji. Fabric User Data Functions umožňují impl
 ementovat write-back přímo v Power BI bez nutnosti vytvářet samostatn
 é aplikace. Ukážeme si\, jak UDF technicky fungují\, jak je implemento
 vat\, jak navrhnout datový model s verzováním a auditem změn\, a jak p
 ropojit Power BI tlačítka s databázovými operacemi. A že se to dá ce
 lé zvládnout s Claude AI\, který vygeneruje SQL\, Python kód i dokumen
 taci.
DTEND;TZID=Central Europe Standard Time:20260312T160000
DTSTAMP:20260425T143603Z
DTSTART;TZID=Central Europe Standard Time:20260312T151000
LOCATION:Hlavní sál
SEQUENCE:0
SUMMARY:Fabric User Data Functions - Jak umožnit uživatelům měnit data 
 skrz report
UID:f8bc9a8c-5eac-4da8-15a0-08de7e7baf89
URL:https://www.gopas2go.cz/sk/events/power-bi-day-2026/f8bc9a8c-5eac-4da8-
 15a0-08de7e7baf89
END:VEVENT
END:VCALENDAR
